BEGIN:VCALENDAR
VERSION:2.0
PRODID:-//Delta Health - ECPv6.15.20//NONSGML v1.0//EN
CALSCALE:GREGORIAN
METHOD:PUBLISH
X-WR-CALNAME:Delta Health
X-ORIGINAL-URL:https://deltahealthco.org
X-WR-CALDESC:Events for Delta Health
REFRESH-INTERVAL;VALUE=DURATION:PT1H
X-Robots-Tag:noindex
X-PUBLISHED-TTL:PT1H
BEGIN:VTIMEZONE
TZID:America/Denver
BEGIN:DAYLIGHT
TZOFFSETFROM:-0700
TZOFFSETTO:-0600
TZNAME:MDT
DTSTART:20210314T090000
END:DAYLIGHT
BEGIN:STANDARD
TZOFFSETFROM:-0600
TZOFFSETTO:-0700
TZNAME:MST
DTSTART:20211107T080000
END:STANDARD
BEGIN:DAYLIGHT
TZOFFSETFROM:-0700
TZOFFSETTO:-0600
TZNAME:MDT
DTSTART:20220313T090000
END:DAYLIGHT
BEGIN:STANDARD
TZOFFSETFROM:-0600
TZOFFSETTO:-0700
TZNAME:MST
DTSTART:20221106T080000
END:STANDARD
BEGIN:DAYLIGHT
TZOFFSETFROM:-0700
TZOFFSETTO:-0600
TZNAME:MDT
DTSTART:20230312T090000
END:DAYLIGHT
BEGIN:STANDARD
TZOFFSETFROM:-0600
TZOFFSETTO:-0700
TZNAME:MST
DTSTART:20231105T080000
END:STANDARD
END:VTIMEZONE
BEGIN:VEVENT
DTSTART;TZID=America/Denver:20220820T063000
DTEND;TZID=America/Denver:20220820T110000
DTSTAMP:20260423T022325
CREATED:20220524T204704Z
LAST-MODIFIED:20220524T204704Z
UID:8325-1660977000-1660993200@deltahealthco.org
SUMMARY:Health Fair: Delta
DESCRIPTION:DELTA\nCrag Crest & Mesa Lakes Classroomsin Building C100 Stafford LaneDelta\, CO 81416 \nAugust 20\, 20226:30 a.m. to 11:00 a.m.
URL:https://deltahealthco.org/calendar/health-fair-delta-2/
LOCATION:Delta Health\, 150 l E 3rd St\, Delta\, CO\, 81416\, United States
CATEGORIES:All Events
END:VEVENT
END:VCALENDAR