BEGIN:VCALENDAR
VERSION:2.0
PRODID:-//Delta Health - ECPv6.15.20//NONSGML v1.0//EN
CALSCALE:GREGORIAN
METHOD:PUBLISH
X-ORIGINAL-URL:https://deltahealthco.org
X-WR-CALDESC:Events for Delta Health
REFRESH-INTERVAL;VALUE=DURATION:PT1H
X-Robots-Tag:noindex
X-PUBLISHED-TTL:PT1H
BEGIN:VTIMEZONE
TZID:America/Denver
BEGIN:DAYLIGHT
TZOFFSETFROM:-0700
TZOFFSETTO:-0600
TZNAME:MDT
DTSTART:20220313T090000
END:DAYLIGHT
BEGIN:STANDARD
TZOFFSETFROM:-0600
TZOFFSETTO:-0700
TZNAME:MST
DTSTART:20221106T080000
END:STANDARD
BEGIN:DAYLIGHT
TZOFFSETFROM:-0700
TZOFFSETTO:-0600
TZNAME:MDT
DTSTART:20230312T090000
END:DAYLIGHT
BEGIN:STANDARD
TZOFFSETFROM:-0600
TZOFFSETTO:-0700
TZNAME:MST
DTSTART:20231105T080000
END:STANDARD
BEGIN:DAYLIGHT
TZOFFSETFROM:-0700
TZOFFSETTO:-0600
TZNAME:MDT
DTSTART:20240310T090000
END:DAYLIGHT
BEGIN:STANDARD
TZOFFSETFROM:-0600
TZOFFSETTO:-0700
TZNAME:MST
DTSTART:20241103T080000
END:STANDARD
END:VTIMEZONE
BEGIN:VEVENT
DTSTART;TZID=America/Denver:20231011T090000
DTEND;TZID=America/Denver:20231011T120000
DTSTAMP:20260424T021059
CREATED:20230907T210523Z
LAST-MODIFIED:20230907T210523Z
UID:36417-1697014800-1697025600@deltahealthco.org
SUMMARY:Community CPR Course
DESCRIPTION:Join us in October 11th for a Community CPR Class from 9AM-12PM in the Mesa Lake Classroom located at 1501 E 3rd St. Building C. \nThe cost is $60/per person or no cost to Delta Health Employees. \nTo register\, call Paula Carter at 970.874.2298 or email pcarter@deltahealthco.org.
URL:https://deltahealthco.org/calendar/community-cpr-course-4/
LOCATION:Delta Health\, 150 l E 3rd St\, Delta\, CO\, 81416\, United States
CATEGORIES:All Events
ATTACH;FMTTYPE=image/jpeg:https://deltahealthco.org/wp-content/uploads/2023/09/CPR_AED-Poster-oct-11th-01-scaled.jpg
END:VEVENT
BEGIN:VEVENT
DTSTART;TZID=America/Denver:20231014T080000
DTEND;TZID=America/Denver:20231014T110000
DTSTAMP:20260424T021059
CREATED:20231003T215607Z
LAST-MODIFIED:20231003T215607Z
UID:36454-1697270400-1697281200@deltahealthco.org
SUMMARY:Drive-Thru Flu Clinic - West Elk Hotchkiss Clinic
DESCRIPTION:Join us for a Drive-Thru Flu Clinic at the West Elk Hotchkiss Clinic on October 14th 8AM-11AM. \n230 E Hotchkiss Avenue\nHotchkiss\, CO \nFREE with most insurances (cash and check accepted) OR\n$20 for the regular flu shot (Ages 19 and older)\n$60 for high-dose flu shot (Ages 65 and older) \n**Walk-in Clinic is not available during the during the flu clinic \n 
URL:https://deltahealthco.org/calendar/drive-thru-flu-clinic-west-elk-hotchkiss-clinic/
LOCATION:Delta Health\, 150 l E 3rd St\, Delta\, CO\, 81416\, United States
CATEGORIES:All Events
ATTACH;FMTTYPE=image/jpeg:https://deltahealthco.org/wp-content/uploads/2023/10/Hotchkiss-Drive-Through_11x17-poster-copy-1-01-scaled.jpg
END:VEVENT
END:VCALENDAR