BEGIN:VCALENDAR
VERSION:2.0
PRODID:-//Delta Health - ECPv6.15.20//NONSGML v1.0//EN
CALSCALE:GREGORIAN
METHOD:PUBLISH
X-WR-CALNAME:Delta Health
X-ORIGINAL-URL:https://deltahealthco.org
X-WR-CALDESC:Events for Delta Health
REFRESH-INTERVAL;VALUE=DURATION:PT1H
X-Robots-Tag:noindex
X-PUBLISHED-TTL:PT1H
BEGIN:VTIMEZONE
TZID:America/Denver
BEGIN:DAYLIGHT
TZOFFSETFROM:-0700
TZOFFSETTO:-0600
TZNAME:MDT
DTSTART:20210314T090000
END:DAYLIGHT
BEGIN:STANDARD
TZOFFSETFROM:-0600
TZOFFSETTO:-0700
TZNAME:MST
DTSTART:20211107T080000
END:STANDARD
BEGIN:DAYLIGHT
TZOFFSETFROM:-0700
TZOFFSETTO:-0600
TZNAME:MDT
DTSTART:20220313T090000
END:DAYLIGHT
BEGIN:STANDARD
TZOFFSETFROM:-0600
TZOFFSETTO:-0700
TZNAME:MST
DTSTART:20221106T080000
END:STANDARD
BEGIN:DAYLIGHT
TZOFFSETFROM:-0700
TZOFFSETTO:-0600
TZNAME:MDT
DTSTART:20230312T090000
END:DAYLIGHT
BEGIN:STANDARD
TZOFFSETFROM:-0600
TZOFFSETTO:-0700
TZNAME:MST
DTSTART:20231105T080000
END:STANDARD
END:VTIMEZONE
BEGIN:VEVENT
DTSTART;TZID=America/Denver:20220406T100000
DTEND;TZID=America/Denver:20220406T110000
DTSTAMP:20260420T213557
CREATED:20220308T180549Z
LAST-MODIFIED:20221208T181516Z
UID:7982-1649239200-1649242800@deltahealthco.org
SUMMARY:Joint Replacement Pre-Op Class
DESCRIPTION:This 60-minute Pre-Op Class is required for anyone considering or who is scheduled to receive a knee\, hip or shoulder replacement surgery and their support person. This class is designed to help you prepare for surgery and recovery.\nTo register please contact the Education Department at Delta Health at 970.874.2298\nTopics Covered:\n– Pre-Op Process\n– Surgery\n– Anesthesia\n– Pain Control\n– Therapy\n– Nutrition\n– Follow-Up\nLimited Class Sizes\nLight Snack Provided\n1501 E. 3rd Street\nDelta\, Colorado\n970.874.2298\ndeltahealthco.org
URL:https://deltahealthco.org/calendar/total-joint-replacement-pre-op-class-2/2022-04-06/
LOCATION:Delta Health\, 150 l E 3rd St\, Delta\, CO\, 81416\, United States
CATEGORIES:All Events
END:VEVENT
END:VCALENDAR