BEGIN:VCALENDAR
VERSION:2.0
PRODID:-//Delta Health - ECPv6.15.20//NONSGML v1.0//EN
CALSCALE:GREGORIAN
METHOD:PUBLISH
X-ORIGINAL-URL:https://deltahealthco.org
X-WR-CALDESC:Events for Delta Health
REFRESH-INTERVAL;VALUE=DURATION:PT1H
X-Robots-Tag:noindex
X-PUBLISHED-TTL:PT1H
BEGIN:VTIMEZONE
TZID:America/Denver
BEGIN:DAYLIGHT
TZOFFSETFROM:-0700
TZOFFSETTO:-0600
TZNAME:MDT
DTSTART:20210314T090000
END:DAYLIGHT
BEGIN:STANDARD
TZOFFSETFROM:-0600
TZOFFSETTO:-0700
TZNAME:MST
DTSTART:20211107T080000
END:STANDARD
BEGIN:DAYLIGHT
TZOFFSETFROM:-0700
TZOFFSETTO:-0600
TZNAME:MDT
DTSTART:20220313T090000
END:DAYLIGHT
BEGIN:STANDARD
TZOFFSETFROM:-0600
TZOFFSETTO:-0700
TZNAME:MST
DTSTART:20221106T080000
END:STANDARD
BEGIN:DAYLIGHT
TZOFFSETFROM:-0700
TZOFFSETTO:-0600
TZNAME:MDT
DTSTART:20230312T090000
END:DAYLIGHT
BEGIN:STANDARD
TZOFFSETFROM:-0600
TZOFFSETTO:-0700
TZNAME:MST
DTSTART:20231105T080000
END:STANDARD
END:VTIMEZONE
BEGIN:VEVENT
DTSTART;TZID=America/Denver:20220422T090000
DTEND;TZID=America/Denver:20220422T140000
DTSTAMP:20260420T233113
CREATED:20210601T211907Z
LAST-MODIFIED:20221003T214536Z
UID:8022-1650618000-1650636000@deltahealthco.org
SUMMARY:Pediatrics First Aid & CPR Course for Babysitting | Ages 10 and Up
DESCRIPTION:Join us on April 21st and 22nd for a Pediatrics First Aid and CPR Course for Babysitting. This class is available for those Ages 10 and up. It’s a $30 fee per person. The class will take place from 9:00 a.m. to 2:00 p.m. in the Mesa Lakes Classrooms located in the Oncology Building at 100 Stafford Lane. \nAttendees will receive a certificate for babysitting\, first aid and CPR training in accordance with the most recent American Heart Association Guidelines (2020). The class is limited to 10 students. \nTo register please contact Paula Carter at 970.874.2298.
URL:https://deltahealthco.org/calendar/pediatrics-first-aid-cpr-course-for-babysitting-ages-10-and-up-2022-04-22/
LOCATION:Delta Health\, 150 l E 3rd St\, Delta\, CO\, 81416\, United States
CATEGORIES:All Events
ATTACH;FMTTYPE=image/jpeg:https://deltahealthco.org/wp-content/uploads/2021/06/CPR-CLASS-01-2.jpg
END:VEVENT
END:VCALENDAR