BEGIN:VCALENDAR
VERSION:2.0
PRODID:-//Delta Health - ECPv6.15.20//NONSGML v1.0//EN
CALSCALE:GREGORIAN
METHOD:PUBLISH
X-WR-CALNAME:Delta Health
X-ORIGINAL-URL:https://deltahealthco.org
X-WR-CALDESC:Events for Delta Health
REFRESH-INTERVAL;VALUE=DURATION:PT1H
X-Robots-Tag:noindex
X-PUBLISHED-TTL:PT1H
BEGIN:VTIMEZONE
TZID:America/Denver
BEGIN:DAYLIGHT
TZOFFSETFROM:-0700
TZOFFSETTO:-0600
TZNAME:MDT
DTSTART:20230312T090000
END:DAYLIGHT
BEGIN:STANDARD
TZOFFSETFROM:-0600
TZOFFSETTO:-0700
TZNAME:MST
DTSTART:20231105T080000
END:STANDARD
BEGIN:DAYLIGHT
TZOFFSETFROM:-0700
TZOFFSETTO:-0600
TZNAME:MDT
DTSTART:20240310T090000
END:DAYLIGHT
BEGIN:STANDARD
TZOFFSETFROM:-0600
TZOFFSETTO:-0700
TZNAME:MST
DTSTART:20241103T080000
END:STANDARD
BEGIN:DAYLIGHT
TZOFFSETFROM:-0700
TZOFFSETTO:-0600
TZNAME:MDT
DTSTART:20250309T090000
END:DAYLIGHT
BEGIN:STANDARD
TZOFFSETFROM:-0600
TZOFFSETTO:-0700
TZNAME:MST
DTSTART:20251102T080000
END:STANDARD
END:VTIMEZONE
BEGIN:VEVENT
DTSTART;TZID=America/Denver:20240612T100000
DTEND;TZID=America/Denver:20240612T120000
DTSTAMP:20260420T085138
CREATED:20240523T162503Z
LAST-MODIFIED:20240523T162503Z
UID:36929-1718186400-1718193600@deltahealthco.org
SUMMARY:Sports Performance Clinic
DESCRIPTION:Attention Delta High School Girls! Join us for a Sports Performance Clinic.  This is an educational clinic for student athletes to help improve lifting mechanics and also reduce risk for injury through directed movement screening to improve overall sports performance.\n\n June 12th from 10AM-12PM All classes will be held at West Slope Fit located at 1429 US Highway 50 #8\, Delta\, CO 81416\n To register\, please email Jhillman@deltahospital.org or Tchiarmonte@deltahospital.org | Please include your Full Name\, School and Contact Info (Phone) for each registered individual.\n\n Join us to learn the importance of mobility and body mechanics for improved optimal performance.
URL:https://deltahealthco.org/calendar/sports-performance-clinic-2/2024-06-12/
LOCATION:Delta Health\, 150 l E 3rd St\, Delta\, CO\, 81416\, United States
CATEGORIES:All Events
END:VEVENT
END:VCALENDAR