BEGIN:VCALENDAR
VERSION:2.0
PRODID:-//Delta Health - ECPv6.15.20//NONSGML v1.0//EN
CALSCALE:GREGORIAN
METHOD:PUBLISH
X-WR-CALNAME:Delta Health
X-ORIGINAL-URL:https://deltahealthco.org
X-WR-CALDESC:Events for Delta Health
REFRESH-INTERVAL;VALUE=DURATION:PT1H
X-Robots-Tag:noindex
X-PUBLISHED-TTL:PT1H
BEGIN:VTIMEZONE
TZID:America/Denver
BEGIN:DAYLIGHT
TZOFFSETFROM:-0700
TZOFFSETTO:-0600
TZNAME:MDT
DTSTART:20190310T090000
END:DAYLIGHT
BEGIN:STANDARD
TZOFFSETFROM:-0600
TZOFFSETTO:-0700
TZNAME:MST
DTSTART:20191103T080000
END:STANDARD
BEGIN:DAYLIGHT
TZOFFSETFROM:-0700
TZOFFSETTO:-0600
TZNAME:MDT
DTSTART:20200308T090000
END:DAYLIGHT
BEGIN:STANDARD
TZOFFSETFROM:-0600
TZOFFSETTO:-0700
TZNAME:MST
DTSTART:20201101T080000
END:STANDARD
BEGIN:DAYLIGHT
TZOFFSETFROM:-0700
TZOFFSETTO:-0600
TZNAME:MDT
DTSTART:20210314T090000
END:DAYLIGHT
BEGIN:STANDARD
TZOFFSETFROM:-0600
TZOFFSETTO:-0700
TZNAME:MST
DTSTART:20211107T080000
END:STANDARD
END:VTIMEZONE
BEGIN:VEVENT
DTSTART;VALUE=DATE:20200913
DTEND;VALUE=DATE:20200914
DTSTAMP:20260423T070602
CREATED:20200610T210206Z
LAST-MODIFIED:20200630T220704Z
UID:3858-1599955200-1600041599@deltahealthco.org
SUMMARY:Grandparents Day
DESCRIPTION:
URL:https://deltahealthco.org/calendar/grandparents-day/
LOCATION:Delta Health\, 150 l E 3rd St\, Delta\, CO\, 81416\, United States
CATEGORIES:All Events
END:VEVENT
BEGIN:VEVENT
DTSTART;VALUE=DATE:20200919
DTEND;VALUE=DATE:20200920
DTSTAMP:20260423T070602
CREATED:20200610T210439Z
LAST-MODIFIED:20200630T220703Z
UID:3864-1600473600-1600559999@deltahealthco.org
SUMMARY:Pea Green Pedal & Fun Run
DESCRIPTION:
URL:https://deltahealthco.org/calendar/pea-green-pedal-fun-run/
LOCATION:Delta Health\, 150 l E 3rd St\, Delta\, CO\, 81416\, United States
CATEGORIES:All Events,Delta Health
END:VEVENT
BEGIN:VEVENT
DTSTART;VALUE=DATE:20200919
DTEND;VALUE=DATE:20200920
DTSTAMP:20260423T070602
CREATED:20200610T210404Z
LAST-MODIFIED:20200630T220704Z
UID:3862-1600473600-1600559999@deltahealthco.org
SUMMARY:Rosh Hashanah
DESCRIPTION:
URL:https://deltahealthco.org/calendar/rosh-hashanah/
LOCATION:Delta Health\, 150 l E 3rd St\, Delta\, CO\, 81416\, United States
CATEGORIES:All Events
END:VEVENT
BEGIN:VEVENT
DTSTART;TZID=America/Denver:20200924T180000
DTEND;TZID=America/Denver:20200924T210000
DTSTAMP:20260423T070602
CREATED:20200824T213030Z
LAST-MODIFIED:20200824T220537Z
UID:5224-1600970400-1600981200@deltahealthco.org
SUMMARY:Community CPR Class
DESCRIPTION:Join us for our Community CPR Class on Thursday\, September 24\, 2020 at 6:00 p.m. in the Classrooms located inside of the Grand Mesa Oncology Building. The class will be instructed by Charles Hufman\, Paramedic. \nThis class is open to the public and Delta Health Employees who are not required to have CPR (housekeeping\, laboratory\, kitchen\, etc.) You will receive a Heartsaver CPR Card. \nThe class is free to employees and $35 for the public. \nPlease call 970-874-2298 to register or email Paula at pcarter@deltahealthco.org \nSpace is limited so register early!
URL:https://deltahealthco.org/calendar/community-cpr-class/
LOCATION:Delta Health\, 150 l E 3rd St\, Delta\, CO\, 81416\, United States
CATEGORIES:All Events,Education
ATTACH;FMTTYPE=image/png:https://deltahealthco.org/wp-content/uploads/2020/08/CPR-Image-01.png
END:VEVENT
BEGIN:VEVENT
DTSTART;VALUE=DATE:20200928
DTEND;VALUE=DATE:20200929
DTSTAMP:20260423T070602
CREATED:20200610T233959Z
LAST-MODIFIED:20200630T220703Z
UID:3868-1601251200-1601337599@deltahealthco.org
SUMMARY:Yom Kippur
DESCRIPTION:
URL:https://deltahealthco.org/calendar/yom-kippur/
LOCATION:Delta Health\, 150 l E 3rd St\, Delta\, CO\, 81416\, United States
CATEGORIES:All Events
END:VEVENT
BEGIN:VEVENT
DTSTART;TZID=America/Denver:20201003T080000
DTEND;TZID=America/Denver:20201003T120000
DTSTAMP:20260423T070602
CREATED:20200902T181418Z
LAST-MODIFIED:20200902T181439Z
UID:5290-1601712000-1601726400@deltahealthco.org
SUMMARY:2020 Drive and Walk-Through Flu Shot Clinics
DESCRIPTION:Delta Health (Delta Health) and the Delta County Health Department are excited to announce our new drive-through and walk-through flu shot clinic options for community members. \nWHEN: October 3\, from 8:00 a.m. to 12:00 p.m. \n\n\n\n\n\n\n\n\n\nDrive-Through Flu Clinic\n\nGrand Mesa Oncology Building (North of Delta Health)\n100 Stafford Lane\nDelta\, CO \n\n\n\n\n\n\n\n\n\nWalk-Through Flu Clinic\n\nDelta County Health Department\n255 W 6th St\nDelta\, CO \n\n\n\n\n\n\n\n\n\n\nDrive-Through Flu Clinic at Delta Health: \n\n$20 Regular Flu Shot for ages 18 and older\n$55 High Dose Flu Shot for ages 65 and older\nThose with Medicare will not be charged for the high dose flu shot\nFree with most Insurances (please bring your insurance card)\nCash and check accepted\n\nWalk-Through Flu Clinic at the Delta County Health Department: \n\nInsurance accepted (please bring your insurance card)\nOffering low cost or free flu vaccinations for uninsured\n\nFor more information\, visit the Delta County Health Department’s website.  Appointments for the walk-through flu shot clinic can be made by calling the Delta County Health Department at 970.874.2165. \n\n 
URL:https://deltahealthco.org/calendar/2020-drive-and-walk-through-flu-shot-clinics/
LOCATION:Delta Health\, 150 l E 3rd St\, Delta\, CO\, 81416\, United States
CATEGORIES:All Events
ATTACH;FMTTYPE=image/jpeg:https://deltahealthco.org/wp-content/uploads/2020/09/FLu-Clihic-ad.jpg
END:VEVENT
END:VCALENDAR