BEGIN:VCALENDAR
VERSION:2.0
PRODID:-//Delta Health - ECPv6.15.20//NONSGML v1.0//EN
CALSCALE:GREGORIAN
METHOD:PUBLISH
X-WR-CALNAME:Delta Health
X-ORIGINAL-URL:https://deltahealthco.org
X-WR-CALDESC:Events for Delta Health
REFRESH-INTERVAL;VALUE=DURATION:PT1H
X-Robots-Tag:noindex
X-PUBLISHED-TTL:PT1H
BEGIN:VTIMEZONE
TZID:America/Denver
BEGIN:DAYLIGHT
TZOFFSETFROM:-0700
TZOFFSETTO:-0600
TZNAME:MDT
DTSTART:20210314T090000
END:DAYLIGHT
BEGIN:STANDARD
TZOFFSETFROM:-0600
TZOFFSETTO:-0700
TZNAME:MST
DTSTART:20211107T080000
END:STANDARD
BEGIN:DAYLIGHT
TZOFFSETFROM:-0700
TZOFFSETTO:-0600
TZNAME:MDT
DTSTART:20220313T090000
END:DAYLIGHT
BEGIN:STANDARD
TZOFFSETFROM:-0600
TZOFFSETTO:-0700
TZNAME:MST
DTSTART:20221106T080000
END:STANDARD
BEGIN:DAYLIGHT
TZOFFSETFROM:-0700
TZOFFSETTO:-0600
TZNAME:MDT
DTSTART:20230312T090000
END:DAYLIGHT
BEGIN:STANDARD
TZOFFSETFROM:-0600
TZOFFSETTO:-0700
TZNAME:MST
DTSTART:20231105T080000
END:STANDARD
END:VTIMEZONE
BEGIN:VEVENT
DTSTART;TZID=America/Denver:20220922T180000
DTEND;TZID=America/Denver:20220922T210000
DTSTAMP:20260420T183152
CREATED:20220830T151736Z
LAST-MODIFIED:20220830T151736Z
UID:8642-1663869600-1663880400@deltahealthco.org
SUMMARY:CPR & BLS Class | Adult\, Child\, Infant
DESCRIPTION:Join us for our Community CPR & BLS Class for Adults\, Children and Infants. Happening on September 22nd from 6:00PM to 9:00PM and September 26th from 12:00PM to 3:00PM in the Mesa Lakes Classrooms located in Building C at 100 Stafford Lane.\n\nIt’s $45 per person and is free to Delta Health Employees.\n\nYou will receive an American Heart Association CPR Card Upon Completion.\n\nTo register\, or if you have any questions please Contact Paula Carter at 970.874.2298 from 7am-3pm on Mondays\, Tuesdays\, Thursdays and Fridays. Or email pcarter@deltahealthco.org
URL:https://deltahealthco.org/calendar/cpr-bls-class-adult-child-infant/2022-09-22/
LOCATION:Delta Health\, 150 l E 3rd St\, Delta\, CO\, 81416\, United States
CATEGORIES:All Events
END:VEVENT
BEGIN:VEVENT
DTSTART;TZID=America/Denver:20221006T160000
DTEND;TZID=America/Denver:20221006T173000
DTSTAMP:20260420T183153
CREATED:20221003T175445Z
LAST-MODIFIED:20221003T175533Z
UID:8747-1665072000-1665077400@deltahealthco.org
SUMMARY:Delta Health Surgical Open House & Ribbon Cutting
DESCRIPTION:Join us on on October 6th from 4-5:30PM for the open house and ribbon cutting of Delta Health Surgical! Light refreshments will be available\, tour the building\, meet providers and more!
URL:https://deltahealthco.org/calendar/delta-health-surgical-open-house-ribbon-cutting/
LOCATION:Delta Health\, 150 l E 3rd St\, Delta\, CO\, 81416\, United States
CATEGORIES:All Events
END:VEVENT
BEGIN:VEVENT
DTSTART;TZID=America/Denver:20221014T073000
DTEND;TZID=America/Denver:20221014T113000
DTSTAMP:20260420T183153
CREATED:20220912T165114Z
LAST-MODIFIED:20220912T165327Z
UID:8668-1665732600-1665747000@deltahealthco.org
SUMMARY:Drive-Thru Flu Shot Clinic
DESCRIPTION:Join us on October 14\, 2022 for our Drive-Thru Flu Shot Clinic at Delta Health Hospital. From 7:30AM – 11:30AM.\nFREE with most insurances\, Cash\, and Check are accepted. OR $20 for the Regular Flu Shot (Ages 18 and older). $60 for the High Dose Flu Shot (Ages 65 and older).\n\nStop by while supplies last. No appointment is necessary.\n\n1501 E 3rd Street in Delta.
URL:https://deltahealthco.org/calendar/drive-thru-flu-shot-clinic/
LOCATION:Delta Health\, 150 l E 3rd St\, Delta\, CO\, 81416\, United States
CATEGORIES:All Events
ATTACH;FMTTYPE=image/png:https://deltahealthco.org/wp-content/uploads/2022/09/Screen-Shot-2022-09-12-at-10.48.57-AM.png
END:VEVENT
BEGIN:VEVENT
DTSTART;TZID=America/Denver:20221014T073000
DTEND;TZID=America/Denver:20221014T113000
DTSTAMP:20260420T183153
CREATED:20220830T145848Z
LAST-MODIFIED:20220830T145848Z
UID:8640-1665732600-1665747000@deltahealthco.org
SUMMARY:Drive Thru Flu Clinic
DESCRIPTION:
URL:https://deltahealthco.org/calendar/drive-thru-flu-clinic/
LOCATION:Delta Health\, 150 l E 3rd St\, Delta\, CO\, 81416\, United States
CATEGORIES:All Events
END:VEVENT
BEGIN:VEVENT
DTSTART;TZID=America/Denver:20221024T090000
DTEND;TZID=America/Denver:20221024T170000
DTSTAMP:20260420T183153
CREATED:20221003T214759Z
LAST-MODIFIED:20221003T214759Z
UID:8749-1666602000-1666630800@deltahealthco.org
SUMMARY:Community CPR & First Aid Class
DESCRIPTION:Join us for our Community CPR & First Aid Class for Adults\, Children and Infants. Happening on October 24th from 9:00 AM to 5:00PM in the Mesa Lakes Classrooms located in Building C at 100 Stafford Lane.\nIt’s $45 per person and is free to Delta Health Employees.\nYou will receive an American Heart Association CPR Card Upon Completion.\nTo register\, or if you have any questions please Contact Paula Carter at 970.874.2298 from 7am-3pm on Mondays\, Tuesdays\, Thursdays and Fridays. Or email pcarter@deltahealthco.org
URL:https://deltahealthco.org/calendar/community-cpr-first-aid-class/
LOCATION:Delta Health\, 150 l E 3rd St\, Delta\, CO\, 81416\, United States
CATEGORIES:All Events
END:VEVENT
BEGIN:VEVENT
DTSTART;TZID=America/Denver:20221024T090000
DTEND;TZID=America/Denver:20221024T170000
DTSTAMP:20260420T183153
CREATED:20220929T200643Z
LAST-MODIFIED:20220929T200643Z
UID:8738-1666602000-1666630800@deltahealthco.org
SUMMARY:Community CPR Class
DESCRIPTION:Join us for our Community CPR & BLS Class for Adults\, Children and Infants. Happening on October 24th from 9:00 AM to 5:00PM in the Mesa Lakes Classrooms located in Building C at 100 Stafford Lane.\nIt’s $45 per person and is free to Delta Health Employees.\nYou will receive an American Heart Association CPR Card Upon Completion.\nTo register\, or if you have any questions please Contact Paula Carter at 970.874.2298 from 7am-3pm on Mondays\, Tuesdays\, Thursdays and Fridays. Or email pcarter@deltahealthco.org.
URL:https://deltahealthco.org/calendar/community-cpr-class-4/
LOCATION:Delta Health\, 150 l E 3rd St\, Delta\, CO\, 81416\, United States
CATEGORIES:All Events
END:VEVENT
BEGIN:VEVENT
DTSTART;TZID=America/Denver:20221026T080000
DTEND;TZID=America/Denver:20221026T103000
DTSTAMP:20260420T183153
CREATED:20221017T154908Z
LAST-MODIFIED:20221017T154908Z
UID:8781-1666771200-1666780200@deltahealthco.org
SUMMARY:Delta County Quarterly Economic Update
DESCRIPTION:Join The Delta County Government to learn about the latest trends and forecasts in Delta County and the Western Slope from Economic Expert\, Dr. Nathan Perry from Colorado Mesa University.\nMembers of the BIll Heddles Rec Center can attend for free.\nNon-members are $12 per person and you can pay at the door with cash or check.
URL:https://deltahealthco.org/calendar/delta-county-quarterly-economic-update/
LOCATION:Delta Health\, 150 l E 3rd St\, Delta\, CO\, 81416\, United States
CATEGORIES:All Events
ATTACH;FMTTYPE=image/jpeg:https://deltahealthco.org/wp-content/uploads/2022/10/Economic-Update-Ad8-×-6.55-in10-26-22.jpg
END:VEVENT
END:VCALENDAR