BEGIN:VCALENDAR
VERSION:2.0
PRODID:-//Delta Health - ECPv6.15.20//NONSGML v1.0//EN
CALSCALE:GREGORIAN
METHOD:PUBLISH
X-WR-CALNAME:Delta Health
X-ORIGINAL-URL:https://deltahealthco.org
X-WR-CALDESC:Events for Delta Health
REFRESH-INTERVAL;VALUE=DURATION:PT1H
X-Robots-Tag:noindex
X-PUBLISHED-TTL:PT1H
BEGIN:VTIMEZONE
TZID:America/Denver
BEGIN:DAYLIGHT
TZOFFSETFROM:-0700
TZOFFSETTO:-0600
TZNAME:MDT
DTSTART:20200308T090000
END:DAYLIGHT
BEGIN:STANDARD
TZOFFSETFROM:-0600
TZOFFSETTO:-0700
TZNAME:MST
DTSTART:20201101T080000
END:STANDARD
BEGIN:DAYLIGHT
TZOFFSETFROM:-0700
TZOFFSETTO:-0600
TZNAME:MDT
DTSTART:20210314T090000
END:DAYLIGHT
BEGIN:STANDARD
TZOFFSETFROM:-0600
TZOFFSETTO:-0700
TZNAME:MST
DTSTART:20211107T080000
END:STANDARD
BEGIN:DAYLIGHT
TZOFFSETFROM:-0700
TZOFFSETTO:-0600
TZNAME:MDT
DTSTART:20220313T090000
END:DAYLIGHT
BEGIN:STANDARD
TZOFFSETFROM:-0600
TZOFFSETTO:-0700
TZNAME:MST
DTSTART:20221106T080000
END:STANDARD
END:VTIMEZONE
BEGIN:VEVENT
DTSTART;TZID=America/Denver:20210602T170000
DTEND;TZID=America/Denver:20210602T210000
DTSTAMP:20260420T125703
CREATED:20210504T151005Z
LAST-MODIFIED:20210504T151133Z
UID:6932-1622653200-1622667600@deltahealthco.org
SUMMARY:Community CPR & AED Class
DESCRIPTION:Join us for our Community CPR Class on June 2nd from 5:00 p.m. to 9:00 p.m. in the Classrooms located inside of the Grand Mesa Oncology Building.\nThis class is open to the public and Delta Health Employees who are not required to have CPR (housekeeping\, laboratory\, kitchen\, etc.) You will receive a Heartsaver CPR Card.\nThe class is $35.\nPlease call 970-874-2298 to register or email Paula at pcarter@deltahealthco.org\nSpace is limited so register early
URL:https://deltahealthco.org/calendar/community-cpr-aed-class/
LOCATION:Delta Health\, 150 l E 3rd St\, Delta\, CO\, 81416\, United States
CATEGORIES:All Events,Education
END:VEVENT
BEGIN:VEVENT
DTSTART;TZID=America/Denver:20210624T180000
DTEND;TZID=America/Denver:20210624T210000
DTSTAMP:20260420T125703
CREATED:20210611T211207Z
LAST-MODIFIED:20210611T211207Z
UID:7136-1624557600-1624568400@deltahealthco.org
SUMMARY:Community CPR & BLS Class
DESCRIPTION:Join us for our Community CPR Class on June 24th from 6:00 p.m. to 9:00 p.m. in the Classrooms located inside of the Grand Mesa Oncology Building.\nThis class is open to the public and Delta Health Employees who are not required to have CPR (housekeeping\, laboratory\, kitchen\, etc.) You will receive a Heartsaver CPR Card.\n\nThe class is $40.\n\nPlease call 970-874-2298 to register or email Paula at pcarter@deltahealthco.org\n\nSpace is limited so register early
URL:https://deltahealthco.org/calendar/community-cpr-bls-class/
LOCATION:Delta Health\, 150 l E 3rd St\, Delta\, CO\, 81416\, United States
CATEGORIES:All Events
END:VEVENT
BEGIN:VEVENT
DTSTART;TZID=America/Denver:20210630T080000
DTEND;TZID=America/Denver:20210630T103000
DTSTAMP:20260420T125703
CREATED:20210611T205254Z
LAST-MODIFIED:20210611T205744Z
UID:7127-1625040000-1625049000@deltahealthco.org
SUMMARY:Delta County Economic Breakfast
DESCRIPTION:Learn about the latest trends & forecasts in Delta County and the Western Slope from Economic Expert\, Nathan Perry\, PhD\, and a panel of local business experts at the Delta County Economic Outlook Forum. \nSpace is limited\, please RSVP online here.  \nDate and time\n\nWed\, June 30\, 2021 \n8:00 AM – 10:30 AM MDT \n\nLocation\n\nDelta Health Oncology and Hematology \n1501 East 3rd Street \nDelta\, CO 81416
URL:https://deltahealthco.org/calendar/delta-county-economic-outlook-forum-breakfast/
LOCATION:Delta Health\, 150 l E 3rd St\, Delta\, CO\, 81416\, United States
CATEGORIES:All Events
ATTACH;FMTTYPE=image/jpeg:https://deltahealthco.org/wp-content/uploads/2021/06/save-the-date-2.jpg
END:VEVENT
END:VCALENDAR