BEGIN:VCALENDAR
VERSION:2.0
PRODID:-//Delta Health - ECPv6.15.20//NONSGML v1.0//EN
CALSCALE:GREGORIAN
METHOD:PUBLISH
X-ORIGINAL-URL:https://deltahealthco.org
X-WR-CALDESC:Events for Delta Health
REFRESH-INTERVAL;VALUE=DURATION:PT1H
X-Robots-Tag:noindex
X-PUBLISHED-TTL:PT1H
BEGIN:VTIMEZONE
TZID:America/Denver
BEGIN:DAYLIGHT
TZOFFSETFROM:-0700
TZOFFSETTO:-0600
TZNAME:MDT
DTSTART:20200308T090000
END:DAYLIGHT
BEGIN:STANDARD
TZOFFSETFROM:-0600
TZOFFSETTO:-0700
TZNAME:MST
DTSTART:20201101T080000
END:STANDARD
BEGIN:DAYLIGHT
TZOFFSETFROM:-0700
TZOFFSETTO:-0600
TZNAME:MDT
DTSTART:20210314T090000
END:DAYLIGHT
BEGIN:STANDARD
TZOFFSETFROM:-0600
TZOFFSETTO:-0700
TZNAME:MST
DTSTART:20211107T080000
END:STANDARD
BEGIN:DAYLIGHT
TZOFFSETFROM:-0700
TZOFFSETTO:-0600
TZNAME:MDT
DTSTART:20220313T090000
END:DAYLIGHT
BEGIN:STANDARD
TZOFFSETFROM:-0600
TZOFFSETTO:-0700
TZNAME:MST
DTSTART:20221106T080000
END:STANDARD
END:VTIMEZONE
BEGIN:VEVENT
DTSTART;VALUE=DATE:20211013
DTEND;VALUE=DATE:20211014
DTSTAMP:20260422T211755
CREATED:20210618T162953Z
LAST-MODIFIED:20211004T203051Z
UID:7152-1634083200-1634169599@deltahealthco.org
SUMMARY:Blood Draw 2021: Rebound to Resilience
DESCRIPTION:The registration for Delta Health’s annual blood draw days and flu clinic is now open for October 13 through October 16 at Delta Middle School located at 401 East 10th Street. Register online HERE: https://screening.itstartswithme.com/HealthFairOptions.aspx?Code=6868842\n\nLast year’s health fair was canceled due to the pandemic\, but this year’s blood draw dates are in full swing. Formerly known as the Delta County Memorial Hospital Health Fair\, it has been renamed Delta Health: Rebound to Resilience.\nRegistration can be done for the blood draws by:\n\nGoing online HERE. \nCalling 1.800.217.5866 Monday through Friday from 9:00 a.m. to 4:00 p.m.\n\nImportant Reminders:\n\nThere are appointment slots available from 6:00 a.m. to 11:30 a.m. each day.\nNo walk-ins are allowed; please come at the designated appointment time and not earlier to allow for shorter wait times.\nBlood draw prices vary depending on the type of blood tests that are being run.\n\nFlu Shot Clinic:\nDelta Health is also offering high dose and regular flu shots each day for people after their blood draws. There is no appointment needed for the flu vaccine. The flu shot is free with most insurance but cash and check are accepted.\n\n\nThe regular flu shot is $20 for ages 18 and older\nThe high-dose flu shot is $60 for those ages 65 and older.\n\n\nDelta Health is working with It Starts With Me to facilitate the blood draw days. It Starts With Me partners with other Western Slope organizations to provide blood draw and health fair services. To register for an appointment for the blood draw dates\, please go online here or call 1.800.217.5866 Monday through Friday from 9:00 a.m. to 4:00 p.m.
URL:https://deltahealthco.org/calendar/blood-draw-2021-rebound-to-resilience/2021-10-13/
LOCATION:Delta Health\, 150 l E 3rd St\, Delta\, CO\, 81416\, United States
CATEGORIES:All Events
ATTACH;FMTTYPE=image/jpeg:https://deltahealthco.org/wp-content/uploads/2021/06/Facebook_Post-01-scaled.jpg
END:VEVENT
END:VCALENDAR