BEGIN:VCALENDAR
VERSION:2.0
PRODID:-//Delta Health - ECPv6.15.20//NONSGML v1.0//EN
CALSCALE:GREGORIAN
METHOD:PUBLISH
X-ORIGINAL-URL:https://deltahealthco.org
X-WR-CALDESC:Events for Delta Health
REFRESH-INTERVAL;VALUE=DURATION:PT1H
X-Robots-Tag:noindex
X-PUBLISHED-TTL:PT1H
BEGIN:VTIMEZONE
TZID:America/Denver
BEGIN:DAYLIGHT
TZOFFSETFROM:-0700
TZOFFSETTO:-0600
TZNAME:MDT
DTSTART:20230312T090000
END:DAYLIGHT
BEGIN:STANDARD
TZOFFSETFROM:-0600
TZOFFSETTO:-0700
TZNAME:MST
DTSTART:20231105T080000
END:STANDARD
BEGIN:DAYLIGHT
TZOFFSETFROM:-0700
TZOFFSETTO:-0600
TZNAME:MDT
DTSTART:20240310T090000
END:DAYLIGHT
BEGIN:STANDARD
TZOFFSETFROM:-0600
TZOFFSETTO:-0700
TZNAME:MST
DTSTART:20241103T080000
END:STANDARD
BEGIN:DAYLIGHT
TZOFFSETFROM:-0700
TZOFFSETTO:-0600
TZNAME:MDT
DTSTART:20250309T090000
END:DAYLIGHT
BEGIN:STANDARD
TZOFFSETFROM:-0600
TZOFFSETTO:-0700
TZNAME:MST
DTSTART:20251102T080000
END:STANDARD
END:VTIMEZONE
BEGIN:VEVENT
DTSTART;TZID=America/Denver:20240619T113000
DTEND;TZID=America/Denver:20240619T130000
DTSTAMP:20260420T162912
CREATED:20240523T203841Z
LAST-MODIFIED:20240523T203841Z
UID:36930-1718796600-1718802000@deltahealthco.org
SUMMARY:Nutrition Class: Mind Diet - A Brain Health Course
DESCRIPTION:Shares\n					\n					\n									\n										\n									\n								\n									\n										\n									\n								\n									\n										\n									\n								\n									\n										\n									\n								\n									\n										\n						0\n					\n									\n								\n								\n									\n									\n								\n							\n				\n			Join us for a brain health course that provides tools to help you reduce the risk of age-related brain changes through research-based nutrition education. \n\nHosted by the Delta Health Dietitians and Diabetes Educators\, this course is $30/per person and has two class opportunities:\n June 19th 11:30AM – 1:00PM OR June 19th 5:00PM – 6:30PM\n\n Located at 1501 E 3rd Street in Delta the Mesa Lakes Classroom located in Building C.\nRegister today by calling 970.874.6410!\n\nMore information on the MIND Diet:\nThe MIND diet took the nutrition world by storm in 2023 when it revealed the link between diet and brain health. MIND stands for the Mediterranean diet and the DASH diet Intervention for Neurodegenerative Delay\, which combines elements of both the Mediterranean diet and the DASH diet. The research is in –The MIND diet delivers hope for an easy\, non-invasive and effective way to reduce our chances of dementia and the development of Alzheimer’s disease.\n\nThis 90-minute class will tell you: What foods to eat and what foods to limit How to incorporate these foods into your routine How to stay on track and maintain your health and nutrition needs​ Come join us for what promises to be an enlightening and informative look at how we can best preserve our brain health
URL:https://deltahealthco.org/calendar/nutrition-class-mind-diet-a-brain-health-course/2024-06-19/
LOCATION:Delta Health\, 150 l E 3rd St\, Delta\, CO\, 81416\, United States
CATEGORIES:All Events
ATTACH;FMTTYPE=image/jpeg:https://deltahealthco.org/wp-content/uploads/2024/05/June-Mind-Diet-Poster-01-scaled.jpg
END:VEVENT
END:VCALENDAR