BEGIN:VCALENDAR
VERSION:2.0
PRODID:-//Delta Health - ECPv6.15.20//NONSGML v1.0//EN
CALSCALE:GREGORIAN
METHOD:PUBLISH
X-WR-CALNAME:Delta Health
X-ORIGINAL-URL:https://deltahealthco.org
X-WR-CALDESC:Events for Delta Health
REFRESH-INTERVAL;VALUE=DURATION:PT1H
X-Robots-Tag:noindex
X-PUBLISHED-TTL:PT1H
BEGIN:VTIMEZONE
TZID:America/Denver
BEGIN:DAYLIGHT
TZOFFSETFROM:-0700
TZOFFSETTO:-0600
TZNAME:MDT
DTSTART:20200308T090000
END:DAYLIGHT
BEGIN:STANDARD
TZOFFSETFROM:-0600
TZOFFSETTO:-0700
TZNAME:MST
DTSTART:20201101T080000
END:STANDARD
BEGIN:DAYLIGHT
TZOFFSETFROM:-0700
TZOFFSETTO:-0600
TZNAME:MDT
DTSTART:20210314T090000
END:DAYLIGHT
BEGIN:STANDARD
TZOFFSETFROM:-0600
TZOFFSETTO:-0700
TZNAME:MST
DTSTART:20211107T080000
END:STANDARD
BEGIN:DAYLIGHT
TZOFFSETFROM:-0700
TZOFFSETTO:-0600
TZNAME:MDT
DTSTART:20220313T090000
END:DAYLIGHT
BEGIN:STANDARD
TZOFFSETFROM:-0600
TZOFFSETTO:-0700
TZNAME:MST
DTSTART:20221106T080000
END:STANDARD
END:VTIMEZONE
BEGIN:VEVENT
DTSTART;TZID=America/Denver:20210803T183000
DTEND;TZID=America/Denver:20210803T200000
DTSTAMP:20260423T034601
CREATED:20210721T212540Z
LAST-MODIFIED:20210721T212540Z
UID:7230-1628015400-1628020800@deltahealthco.org
SUMMARY:Delta Health Community Bennefit Update
DESCRIPTION:Topic: Delta Health Community Benefits Update \nTime: Aug 3\, 2021 06:30 PM Mountain Time (US and Canada) \nJoin us for our Community Benefit. Contact Jacque Davis to learn more at jadavis@deltahealthco.org or call 970.874.2291 \n  \n 
URL:https://deltahealthco.org/calendar/delta-health-community-bennefit-update/
LOCATION:Delta Health\, 150 l E 3rd St\, Delta\, CO\, 81416\, United States
CATEGORIES:All Events
END:VEVENT
BEGIN:VEVENT
DTSTART;TZID=America/Denver:20210806T103000
DTEND;TZID=America/Denver:20210806T120000
DTSTAMP:20260423T034601
CREATED:20210721T212341Z
LAST-MODIFIED:20210721T212341Z
UID:7227-1628245800-1628251200@deltahealthco.org
SUMMARY:Community Breastfeeding Awareness Event
DESCRIPTION:August is National Breastfeeding Month\, and we’re very excited about it here at Delta Health Stork’s Landing: Labor and Delivery Unit!\nJoin other Moms to discuss your breastfeeding challenges and transitions in a baby-friendly® environment. Support and wisdom from other Moms are sure to ease your breastfeeding journey and give you renewed confidence and lots of great ideas moving forward.\nRefreshments & Tours Available\nDeltahealthco.org or call us at 970.874.2255
URL:https://deltahealthco.org/calendar/community-breastfeeding-awareness-event/
LOCATION:Delta Health\, 150 l E 3rd St\, Delta\, CO\, 81416\, United States
CATEGORIES:All Events
ATTACH;FMTTYPE=image/png:https://deltahealthco.org/wp-content/uploads/2021/07/BrestfeedingEvent_FB_Banner-01-01.png
END:VEVENT
END:VCALENDAR