BEGIN:VCALENDAR
VERSION:2.0
PRODID:-//Delta Health - ECPv6.15.20//NONSGML v1.0//EN
CALSCALE:GREGORIAN
METHOD:PUBLISH
X-WR-CALNAME:Delta Health
X-ORIGINAL-URL:https://deltahealthco.org
X-WR-CALDESC:Events for Delta Health
REFRESH-INTERVAL;VALUE=DURATION:PT1H
X-Robots-Tag:noindex
X-PUBLISHED-TTL:PT1H
BEGIN:VTIMEZONE
TZID:America/Denver
BEGIN:DAYLIGHT
TZOFFSETFROM:-0700
TZOFFSETTO:-0600
TZNAME:MDT
DTSTART:20210314T090000
END:DAYLIGHT
BEGIN:STANDARD
TZOFFSETFROM:-0600
TZOFFSETTO:-0700
TZNAME:MST
DTSTART:20211107T080000
END:STANDARD
BEGIN:DAYLIGHT
TZOFFSETFROM:-0700
TZOFFSETTO:-0600
TZNAME:MDT
DTSTART:20220313T090000
END:DAYLIGHT
BEGIN:STANDARD
TZOFFSETFROM:-0600
TZOFFSETTO:-0700
TZNAME:MST
DTSTART:20221106T080000
END:STANDARD
BEGIN:DAYLIGHT
TZOFFSETFROM:-0700
TZOFFSETTO:-0600
TZNAME:MDT
DTSTART:20230312T090000
END:DAYLIGHT
BEGIN:STANDARD
TZOFFSETFROM:-0600
TZOFFSETTO:-0700
TZNAME:MST
DTSTART:20231105T080000
END:STANDARD
END:VTIMEZONE
BEGIN:VEVENT
DTSTART;TZID=America/Denver:20220622T180000
DTEND;TZID=America/Denver:20220622T210000
DTSTAMP:20260420T070523
CREATED:20220524T205310Z
LAST-MODIFIED:20230523T192405Z
UID:8328-1655920800-1655931600@deltahealthco.org
SUMMARY:Childbirth & Prenatal Classes
DESCRIPTION:For pregnant women and their spouse\, partner or support person. Our goal at Stork’s Landing is to provide you with information to prepare for childbirth\, help you make informed decisions\, and minimize your fears. You’ll also learn techniques to help you relax and cope with labor. All Classes are FREE. \n2022 Classes are located in Classroom B (1st floor of the main hospital) 1501 E. 3rd Street\, Delta\, CO. \n 
URL:https://deltahealthco.org/calendar/childbirth-prenatal-classes/2022-06-22/
LOCATION:Delta Health\, 150 l E 3rd St\, Delta\, CO\, 81416\, United States
CATEGORIES:All Events
END:VEVENT
END:VCALENDAR