BEGIN:VCALENDAR
VERSION:2.0
PRODID:-//Delta Health - ECPv6.15.20//NONSGML v1.0//EN
CALSCALE:GREGORIAN
METHOD:PUBLISH
X-WR-CALNAME:Delta Health
X-ORIGINAL-URL:https://deltahealthco.org
X-WR-CALDESC:Events for Delta Health
REFRESH-INTERVAL;VALUE=DURATION:PT1H
X-Robots-Tag:noindex
X-PUBLISHED-TTL:PT1H
BEGIN:VTIMEZONE
TZID:America/Denver
BEGIN:DAYLIGHT
TZOFFSETFROM:-0700
TZOFFSETTO:-0600
TZNAME:MDT
DTSTART:20210314T090000
END:DAYLIGHT
BEGIN:STANDARD
TZOFFSETFROM:-0600
TZOFFSETTO:-0700
TZNAME:MST
DTSTART:20211107T080000
END:STANDARD
BEGIN:DAYLIGHT
TZOFFSETFROM:-0700
TZOFFSETTO:-0600
TZNAME:MDT
DTSTART:20220313T090000
END:DAYLIGHT
BEGIN:STANDARD
TZOFFSETFROM:-0600
TZOFFSETTO:-0700
TZNAME:MST
DTSTART:20221106T080000
END:STANDARD
BEGIN:DAYLIGHT
TZOFFSETFROM:-0700
TZOFFSETTO:-0600
TZNAME:MDT
DTSTART:20230312T090000
END:DAYLIGHT
BEGIN:STANDARD
TZOFFSETFROM:-0600
TZOFFSETTO:-0700
TZNAME:MST
DTSTART:20231105T080000
END:STANDARD
END:VTIMEZONE
BEGIN:VEVENT
DTSTART;TZID=America/Denver:20220802T153000
DTEND;TZID=America/Denver:20220802T170000
DTSTAMP:20260422T211620
CREATED:20220802T172202Z
LAST-MODIFIED:20220802T172254Z
UID:8582-1659454200-1659459600@deltahealthco.org
SUMMARY:Public Engagement & Benefits Accountability Update
DESCRIPTION:Join us as we update and seek feedback from our community stakeholders and the public regarding the hospital community benefit activities\, HTP measures\, costs and shortfalls from the preceding year. Happening August 2 from 3:30PM to 5:00PM in Delta Health Classroom B\, located in the main hospital building at 1501 E. 3rd Street in Delta. \nJoin the meeting via zoom here: https://us02web.zoom.us/j/87636496734?pwd=a2JxME5DV1JoU1l6Q2t3NjlwTWJ3Zz09 \n 
URL:https://deltahealthco.org/calendar/public-engagement-benefits-accountability-update/
LOCATION:Delta Health\, 150 l E 3rd St\, Delta\, CO\, 81416\, United States
CATEGORIES:All Events
END:VEVENT
BEGIN:VEVENT
DTSTART;TZID=America/Denver:20220805T100000
DTEND;TZID=America/Denver:20220805T130000
DTSTAMP:20260422T211620
CREATED:20220705T163739Z
LAST-MODIFIED:20220705T163739Z
UID:8499-1659693600-1659704400@deltahealthco.org
SUMMARY:Community Breastfeeding Awareness Event
DESCRIPTION:Join Delta Health for their annual Community Breastfeeding Awareness Event on Friday\, August 5th from 10:00 AM to 1:00 PM. The event is taking place at 1501 E 3rd Street in Delta\, on the lawn behind Building C (The Delta Health Oncology Building). \nFor more information\, call 970.874.2255 or visit deltahealthco.org \nRefreshments will be available and tours of Stork’s Landing!\n🔹 Talk to Providers\n🔹 Special Guests\n🔹 Local Vendors and Booth\n🔹 Giveaways \nGet together with other local moms to discuss your breastfeeding challenges and transitions into a baby-friendly environment. \nThis is also a BIRTHDAY PARTY for all babies born at Delta Health from July 2021 to July 2022! Birthday party starts at 10:30 AM at the same location.
URL:https://deltahealthco.org/calendar/community-breastfeeding-awareness-event-2/
LOCATION:Delta Health\, 150 l E 3rd St\, Delta\, CO\, 81416\, United States
CATEGORIES:All Events
ATTACH;FMTTYPE=image/jpeg:https://deltahealthco.org/wp-content/uploads/2022/07/Postcard-Combo-01-e1658849919855.jpg
END:VEVENT
BEGIN:VEVENT
DTSTART;TZID=America/Denver:20220806T080000
DTEND;TZID=America/Denver:20220806T113000
DTSTAMP:20260422T211620
CREATED:20220705T150212Z
LAST-MODIFIED:20220705T150212Z
UID:8496-1659772800-1659785400@deltahealthco.org
SUMMARY:Women and Weights
DESCRIPTION:Delta Health and the Delta Recreation Center are excited to present Women in Weights! A morning class that breaks down weight lifting and powerlifting for women.\n\nThis amazing class is being taught by:\n Dr. Tristen Chiarmonte PT\, DPT\n Kindra Brewer NSCA-CSCS/TSAC-F/CPT Fitness Director\n Dr. Kasi Snook PT\, DPT\n\n Sign-up by August 1st at the Bill Heddles Rec Center\, or sign-up by calling 970.874.0923\n(20 participants max per class)\n\n Must be 18+\n$25 per person and includes a T-Shirt\n Bill Heddles Rec Center\n531 Palmer Street\, Delta\, CO\n 8:00 AM -11:30 AM
URL:https://deltahealthco.org/calendar/women-and-weights/
LOCATION:Delta Health\, 150 l E 3rd St\, Delta\, CO\, 81416\, United States
CATEGORIES:All Events
ATTACH;FMTTYPE=image/jpeg:https://deltahealthco.org/wp-content/uploads/2022/07/WomenandWeights_Poster-01-scaled.jpg
END:VEVENT
END:VCALENDAR